BEGIN:VCALENDAR
VERSION:2.0
PRODID:-//Chisipite Senior School - ECPv6.15.17.1//NONSGML v1.0//EN
CALSCALE:GREGORIAN
METHOD:PUBLISH
X-WR-CALNAME:Chisipite Senior School
X-ORIGINAL-URL:https://www.chisipitesenior.com
X-WR-CALDESC:Events for Chisipite Senior School
REFRESH-INTERVAL;VALUE=DURATION:PT1H
X-Robots-Tag:noindex
X-PUBLISHED-TTL:PT1H
BEGIN:VTIMEZONE
TZID:Africa/Harare
BEGIN:STANDARD
TZOFFSETFROM:+0200
TZOFFSETTO:+0200
TZNAME:CAT
DTSTART:20240101T000000
END:STANDARD
END:VTIMEZONE
BEGIN:VEVENT
DTSTART;TZID=Africa/Harare:20251129T133000
DTEND;TZID=Africa/Harare:20251129T153000
DTSTAMP:20260423T171118
CREATED:20250912T110320Z
LAST-MODIFIED:20250912T110320Z
UID:12775-1764423000-1764430200@www.chisipitesenior.com
SUMMARY:Volleyball vs Kyle (H)
DESCRIPTION:
URL:https://www.chisipitesenior.com/event/volleyball-vs-kyle-h/
CATEGORIES:Sports
END:VEVENT
BEGIN:VEVENT
DTSTART;TZID=Africa/Harare:20251129T080000
DTEND;TZID=Africa/Harare:20251129T140000
DTSTAMP:20260423T171118
CREATED:20250912T110159Z
LAST-MODIFIED:20250912T110159Z
UID:12773-1764403200-1764424800@www.chisipitesenior.com
SUMMARY:Soccer Fun Festival
DESCRIPTION:
URL:https://www.chisipitesenior.com/event/soccer-fun-festival/
CATEGORIES:Sports
END:VEVENT
BEGIN:VEVENT
DTSTART;TZID=Africa/Harare:20251128T140000
DTEND;TZID=Africa/Harare:20251129T170000
DTSTAMP:20260423T171118
CREATED:20250912T110106Z
LAST-MODIFIED:20250912T110106Z
UID:12771-1764338400-1764435600@www.chisipitesenior.com
SUMMARY:Zimschools Squash Invitational @ Highlands
DESCRIPTION:
URL:https://www.chisipitesenior.com/event/zimschools-squash-invitational-highlands/
CATEGORIES:Sports
END:VEVENT
BEGIN:VEVENT
DTSTART;TZID=Africa/Harare:20251123T080000
DTEND;TZID=Africa/Harare:20251123T120000
DTSTAMP:20260423T171118
CREATED:20250912T105935Z
LAST-MODIFIED:20250912T105935Z
UID:12768-1763884800-1763899200@www.chisipitesenior.com
SUMMARY:Archery Finale @ Hellenic
DESCRIPTION:
URL:https://www.chisipitesenior.com/event/archery-finale-hellenic/
CATEGORIES:Sports
END:VEVENT
BEGIN:VEVENT
DTSTART;TZID=Africa/Harare:20251122T080000
DTEND;TZID=Africa/Harare:20251122T113000
DTSTAMP:20260423T171118
CREATED:20250912T105704Z
LAST-MODIFIED:20250912T105704Z
UID:12766-1763798400-1763811000@www.chisipitesenior.com
SUMMARY:B-League Tennis vs Convent U16 (A); U15/U14 (H)
DESCRIPTION:
URL:https://www.chisipitesenior.com/event/b-league-tennis-vs-convent-u16-a-u15-u14-h/
CATEGORIES:Sports
END:VEVENT
BEGIN:VEVENT
DTSTART;TZID=Africa/Harare:20251122T080000
DTEND;TZID=Africa/Harare:20251122T113000
DTSTAMP:20260423T171118
CREATED:20250912T105536Z
LAST-MODIFIED:20250912T105536Z
UID:12764-1763798400-1763811000@www.chisipitesenior.com
SUMMARY:A-League Tennis vs Lomagundi (A)
DESCRIPTION:
URL:https://www.chisipitesenior.com/event/a-league-tennis-vs-lomagundi-a-2/
CATEGORIES:Sports
END:VEVENT
BEGIN:VEVENT
DTSTART;TZID=Africa/Harare:20251119T140000
DTEND;TZID=Africa/Harare:20251119T170000
DTSTAMP:20260423T171118
CREATED:20250912T105437Z
LAST-MODIFIED:20250912T105437Z
UID:12762-1763560800-1763571600@www.chisipitesenior.com
SUMMARY:Soccer vs Convent (A)
DESCRIPTION:
URL:https://www.chisipitesenior.com/event/soccer-vs-convent-a-7/
CATEGORIES:Sports
END:VEVENT
BEGIN:VEVENT
DTSTART;TZID=Africa/Harare:20251115T083000
DTEND;TZID=Africa/Harare:20251115T133000
DTSTAMP:20260423T171118
CREATED:20250912T105153Z
LAST-MODIFIED:20250912T105153Z
UID:12758-1763195400-1763213400@www.chisipitesenior.com
SUMMARY:Junior Co-Ed Invitational Gala (H)
DESCRIPTION:
URL:https://www.chisipitesenior.com/event/junior-co-ed-invitational-gala-h/
CATEGORIES:Sports
END:VEVENT
BEGIN:VEVENT
DTSTART;TZID=Africa/Harare:20251115T080000
DTEND;TZID=Africa/Harare:20251115T170000
DTSTAMP:20260423T171118
CREATED:20250912T105319Z
LAST-MODIFIED:20250912T105319Z
UID:12760-1763193600-1763226000@www.chisipitesenior.com
SUMMARY:H.I.S U16 Basketball Tournament
DESCRIPTION:
URL:https://www.chisipitesenior.com/event/h-i-s-u16-basketball-tournament/
CATEGORIES:Sports
END:VEVENT
BEGIN:VEVENT
DTSTART;TZID=Africa/Harare:20251115T080000
DTEND;TZID=Africa/Harare:20251115T113000
DTSTAMP:20260423T171118
CREATED:20250912T105028Z
LAST-MODIFIED:20250912T105028Z
UID:12756-1763193600-1763206200@www.chisipitesenior.com
SUMMARY:B-League Tennis vs Hellenic (B)
DESCRIPTION:
URL:https://www.chisipitesenior.com/event/b-league-tennis-vs-hellenic-b/
CATEGORIES:Sports
END:VEVENT
BEGIN:VEVENT
DTSTART;TZID=Africa/Harare:20251115T080000
DTEND;TZID=Africa/Harare:20251115T113000
DTSTAMP:20260423T171118
CREATED:20250912T104636Z
LAST-MODIFIED:20250912T104636Z
UID:12754-1763193600-1763206200@www.chisipitesenior.com
SUMMARY:A-League Tennis vs Hellenic (A)
DESCRIPTION:
URL:https://www.chisipitesenior.com/event/a-league-tennis-vs-hellenic-a/
CATEGORIES:Sports
END:VEVENT
BEGIN:VEVENT
DTSTART;TZID=Africa/Harare:20251114T140000
DTEND;TZID=Africa/Harare:20251114T170000
DTSTAMP:20260423T171118
CREATED:20250912T104410Z
LAST-MODIFIED:20250912T104410Z
UID:12750-1763128800-1763139600@www.chisipitesenior.com
SUMMARY:Basketball vs H.I.S (A)
DESCRIPTION:
URL:https://www.chisipitesenior.com/event/basketball-vs-h-i-s-a/
CATEGORIES:Sports
END:VEVENT
BEGIN:VEVENT
DTSTART;TZID=Africa/Harare:20251114T080000
DTEND;TZID=Africa/Harare:20251114T170000
DTSTAMP:20260423T171118
CREATED:20250912T104527Z
LAST-MODIFIED:20250912T104527Z
UID:12752-1763107200-1763139600@www.chisipitesenior.com
SUMMARY:Volleyball Triangular Fixture @ Watershed
DESCRIPTION:
URL:https://www.chisipitesenior.com/event/volleyball-triangular-fixture-watershed/
CATEGORIES:Sports
END:VEVENT
BEGIN:VEVENT
DTSTART;TZID=Africa/Harare:20251110T140000
DTEND;TZID=Africa/Harare:20251110T170000
DTSTAMP:20260423T171118
CREATED:20250912T104227Z
LAST-MODIFIED:20250912T104227Z
UID:12748-1762783200-1762794000@www.chisipitesenior.com
SUMMARY:Interhouse Squash
DESCRIPTION:
URL:https://www.chisipitesenior.com/event/interhouse-squash-2/
CATEGORIES:Sports
END:VEVENT
BEGIN:VEVENT
DTSTART;TZID=Africa/Harare:20251108T080000
DTEND;TZID=Africa/Harare:20251108T120000
DTSTAMP:20260423T171118
CREATED:20250912T102507Z
LAST-MODIFIED:20250912T102507Z
UID:12744-1762588800-1762603200@www.chisipitesenior.com
SUMMARY:Volleyball vs MCC (A)
DESCRIPTION:
URL:https://www.chisipitesenior.com/event/volleyball-vs-mcc-a-3/
CATEGORIES:Sports
END:VEVENT
BEGIN:VEVENT
DTSTART;TZID=Africa/Harare:20251106T140000
DTEND;TZID=Africa/Harare:20251106T170000
DTSTAMP:20260423T171118
CREATED:20250912T102346Z
LAST-MODIFIED:20250912T102346Z
UID:12741-1762437600-1762448400@www.chisipitesenior.com
SUMMARY:Squash vs Arundel (H)
DESCRIPTION:
URL:https://www.chisipitesenior.com/event/squash-vs-arundel-h/
CATEGORIES:Sports
END:VEVENT
BEGIN:VEVENT
DTSTART;TZID=Africa/Harare:20251105T140000
DTEND;TZID=Africa/Harare:20251105T170000
DTSTAMP:20260423T171118
CREATED:20250912T102057Z
LAST-MODIFIED:20250912T102057Z
UID:12739-1762351200-1762362000@www.chisipitesenior.com
SUMMARY:Squash vs St. John's Prep (A)
DESCRIPTION:
URL:https://www.chisipitesenior.com/event/squash-vs-st-johns-prep-a-2/
CATEGORIES:Sports
END:VEVENT
BEGIN:VEVENT
DTSTART;TZID=Africa/Harare:20251102T080000
DTEND;TZID=Africa/Harare:20251102T130000
DTSTAMP:20260423T171118
CREATED:20250912T103035Z
LAST-MODIFIED:20250912T103035Z
UID:12746-1762070400-1762088400@www.chisipitesenior.com
SUMMARY:CBC Sprints Regatta
DESCRIPTION:
URL:https://www.chisipitesenior.com/event/cbc-sprints-regatta-3/
CATEGORIES:Sports
END:VEVENT
BEGIN:VEVENT
DTSTART;TZID=Africa/Harare:20251101T080000
DTEND;TZID=Africa/Harare:20251101T170000
DTSTAMP:20260423T171118
CREATED:20250912T101351Z
LAST-MODIFIED:20250912T101351Z
UID:12735-1761984000-1762016400@www.chisipitesenior.com
SUMMARY:Eaglesvale U14 Volleyball Tournament
DESCRIPTION:
URL:https://www.chisipitesenior.com/event/eaglesvale-u14-volleyball-tournament-2/
CATEGORIES:Sports
END:VEVENT
BEGIN:VEVENT
DTSTART;TZID=Africa/Harare:20251101T080000
DTEND;TZID=Africa/Harare:20251101T140000
DTSTAMP:20260423T171118
CREATED:20250912T101453Z
LAST-MODIFIED:20250912T101453Z
UID:12737-1761984000-1762005600@www.chisipitesenior.com
SUMMARY:Squash vs CBC and Girls College (H)
DESCRIPTION:
URL:https://www.chisipitesenior.com/event/squash-vs-cbc-and-girls-college-h/
CATEGORIES:Sports
END:VEVENT
BEGIN:VEVENT
DTSTART;TZID=Africa/Harare:20251031T143000
DTEND;TZID=Africa/Harare:20251031T170000
DTSTAMP:20260423T171118
CREATED:20250912T101246Z
LAST-MODIFIED:20250912T101246Z
UID:12733-1761921000-1761930000@www.chisipitesenior.com
SUMMARY:Basketball vs Convent (A)
DESCRIPTION:
URL:https://www.chisipitesenior.com/event/basketball-vs-convent-a-6/
CATEGORIES:Sports
END:VEVENT
BEGIN:VEVENT
DTSTART;TZID=Africa/Harare:20251031T140000
DTEND;TZID=Africa/Harare:20251102T130000
DTSTAMP:20260423T171118
CREATED:20250912T101049Z
LAST-MODIFIED:20250912T101049Z
UID:12729-1761919200-1762088400@www.chisipitesenior.com
SUMMARY:Junior National Tennis Trials
DESCRIPTION:
URL:https://www.chisipitesenior.com/event/junior-national-tennis-trials-2/
CATEGORIES:Sports
END:VEVENT
BEGIN:VEVENT
DTSTART;TZID=Africa/Harare:20251031T140000
DTEND;TZID=Africa/Harare:20251101T170000
DTSTAMP:20260423T171118
CREATED:20250912T100707Z
LAST-MODIFIED:20250912T100707Z
UID:12727-1761919200-1762016400@www.chisipitesenior.com
SUMMARY:U15 Beare Trophy @ St. John's College
DESCRIPTION:
URL:https://www.chisipitesenior.com/event/u15-beare-trophy-st-johns-college/
CATEGORIES:Sports
END:VEVENT
BEGIN:VEVENT
DTSTART;TZID=Africa/Harare:20251031T140000
DTEND;TZID=Africa/Harare:20251031T170000
DTSTAMP:20260423T171118
CREATED:20250912T101138Z
LAST-MODIFIED:20250912T101138Z
UID:12731-1761919200-1761930000@www.chisipitesenior.com
SUMMARY:Junior Water Polo
DESCRIPTION:
URL:https://www.chisipitesenior.com/event/junior-water-polo-5/
CATEGORIES:Sports
END:VEVENT
BEGIN:VEVENT
DTSTART;TZID=Africa/Harare:20251029T140000
DTEND;TZID=Africa/Harare:20251029T170000
DTSTAMP:20260423T171118
CREATED:20250912T100438Z
LAST-MODIFIED:20250912T100438Z
UID:12725-1761746400-1761757200@www.chisipitesenior.com
SUMMARY:Soccer vs Arundel (H)
DESCRIPTION:
URL:https://www.chisipitesenior.com/event/soccer-vs-arundel-h-4/
CATEGORIES:Sports
END:VEVENT
BEGIN:VEVENT
DTSTART;TZID=Africa/Harare:20251026T080000
DTEND;TZID=Africa/Harare:20251026T130000
DTSTAMP:20260423T171118
CREATED:20250912T090916Z
LAST-MODIFIED:20250912T090916Z
UID:12723-1761465600-1761483600@www.chisipitesenior.com
SUMMARY:Archery @ St. George's College
DESCRIPTION:
URL:https://www.chisipitesenior.com/event/archery-st-georges-college/
CATEGORIES:Sports
END:VEVENT
BEGIN:VEVENT
DTSTART;TZID=Africa/Harare:20251025T080000
DTEND;TZID=Africa/Harare:20251025T170000
DTSTAMP:20260423T171118
CREATED:20250912T090806Z
LAST-MODIFIED:20250912T090806Z
UID:12721-1761379200-1761411600@www.chisipitesenior.com
SUMMARY:Watershed U15 Volleyball Tournament
DESCRIPTION:
URL:https://www.chisipitesenior.com/event/watershed-u15-volleyball-tournament-2/
CATEGORIES:Sports
END:VEVENT
BEGIN:VEVENT
DTSTART;TZID=Africa/Harare:20251025T080000
DTEND;TZID=Africa/Harare:20251025T123000
DTSTAMP:20260423T171118
CREATED:20250912T090626Z
LAST-MODIFIED:20250912T090626Z
UID:12719-1761379200-1761395400@www.chisipitesenior.com
SUMMARY:Soccer vs Shining Smiles and Girls College (H)
DESCRIPTION:
URL:https://www.chisipitesenior.com/event/soccer-vs-shining-smiles-and-girls-college-h/
CATEGORIES:Sports
END:VEVENT
BEGIN:VEVENT
DTSTART;TZID=Africa/Harare:20251025T080000
DTEND;TZID=Africa/Harare:20251025T113000
DTSTAMP:20260423T171118
CREATED:20250912T090412Z
LAST-MODIFIED:20250912T090412Z
UID:12717-1761379200-1761391800@www.chisipitesenior.com
SUMMARY:B-League Tennis vs Gateway U16 (H); U15/U14 (A)
DESCRIPTION:
URL:https://www.chisipitesenior.com/event/b-league-tennis-vs-gateway-u16-h-u15-u14-a/
CATEGORIES:Sports
END:VEVENT
BEGIN:VEVENT
DTSTART;TZID=Africa/Harare:20251025T080000
DTEND;TZID=Africa/Harare:20251025T113000
DTSTAMP:20260423T171118
CREATED:20250912T090250Z
LAST-MODIFIED:20250912T090250Z
UID:12715-1761379200-1761391800@www.chisipitesenior.com
SUMMARY:A-League Tennis vs Arundel U16 (H); U15/14 (A)
DESCRIPTION:
URL:https://www.chisipitesenior.com/event/a-league-tennis-vs-arundel-u16-h-u15-14-a/
CATEGORIES:Sports
END:VEVENT
END:VCALENDAR